BEGIN:VCALENDAR
VERSION:2.0
CALSCALE:GREGORIAN
PRODID:-//MyApp//Calendar 1.0//EN
BEGIN:VEVENT
METHOD:PUBLISH
UID:42261@regionalniportaly.cz
DTSTAMP:20260421T152610Z
DTSTART;VALUE=DATE:20240510
DTEND;VALUE=DATE:20240511
SUMMARY:Wohnout + Resumé
DESCRIPTION:
LOCATION:Benátky nad Jizerou
END:VEVENT
END:VCALENDAR