BEGIN:VCALENDAR
VERSION:2.0
CALSCALE:GREGORIAN
PRODID:-//MyApp//Calendar 1.0//EN
BEGIN:VEVENT
METHOD:PUBLISH
UID:42262@regionalniportaly.cz
DTSTAMP:20260421T151007Z
DTSTART;VALUE=DATE:20240621
DTEND;VALUE=DATE:20240622
SUMMARY:UDG + Jakub Děkan
DESCRIPTION:
LOCATION:Benátky nad Jizerou
END:VEVENT
END:VCALENDAR