BEGIN:VCALENDAR
VERSION:2.0
CALSCALE:GREGORIAN
PRODID:-//MyApp//Calendar 1.0//EN
BEGIN:VEVENT
METHOD:PUBLISH
UID:42263@regionalniportaly.cz
DTSTAMP:20260421T151556Z
DTSTART;VALUE=DATE:20240719
DTEND;VALUE=DATE:20240720
SUMMARY:Tomáš Klus
DESCRIPTION:
LOCATION:Benátky nad Jizerou
END:VEVENT
END:VCALENDAR