BEGIN:VCALENDAR
VERSION:2.0
CALSCALE:GREGORIAN
PRODID:-//MyApp//Calendar 1.0//EN
BEGIN:VEVENT
METHOD:PUBLISH
UID:42264@regionalniportaly.cz
DTSTAMP:20260421T184829Z
DTSTART;VALUE=DATE:20240517
DTEND;VALUE=DATE:20240518
SUMMARY:Michal Horák
DESCRIPTION:
LOCATION:Radim
END:VEVENT
END:VCALENDAR