BEGIN:VCALENDAR
VERSION:2.0
CALSCALE:GREGORIAN
PRODID:-//MyApp//Calendar 1.0//EN
BEGIN:VEVENT
METHOD:PUBLISH
UID:42265@regionalniportaly.cz
DTSTAMP:20260421T152248Z
DTSTART;VALUE=DATE:20240524
DTEND;VALUE=DATE:20240525
SUMMARY:Horkýže Slíže
DESCRIPTION:
LOCATION:Benátky nad Jizerou
END:VEVENT
END:VCALENDAR