BEGIN:VCALENDAR
VERSION:2.0
CALSCALE:GREGORIAN
PRODID:-//MyApp//Calendar 1.0//EN
BEGIN:VEVENT
METHOD:PUBLISH
UID:42267@regionalniportaly.cz
DTSTAMP:20260421T115532Z
DTSTART;VALUE=DATE:20240607
DTEND;VALUE=DATE:20240608
SUMMARY:Jelen + Tereza Balonová
DESCRIPTION:
LOCATION:Benátky nad Jizerou
END:VEVENT
END:VCALENDAR