BEGIN:VCALENDAR
VERSION:2.0
CALSCALE:GREGORIAN
PRODID:-//MyApp//Calendar 1.0//EN
BEGIN:VEVENT
METHOD:PUBLISH
UID:42271@regionalniportaly.cz
DTSTAMP:20260421T150503Z
DTSTART;VALUE=DATE:20240809
DTEND;VALUE=DATE:20240810
SUMMARY:Mňága a Žďorp + Poletíme?
DESCRIPTION:
LOCATION:Benátky nad Jizerou
END:VEVENT
END:VCALENDAR