BEGIN:VCALENDAR
VERSION:2.0
CALSCALE:GREGORIAN
PRODID:-//MyApp//Calendar 1.0//EN
BEGIN:VEVENT
METHOD:PUBLISH
UID:42272@regionalniportaly.cz
DTSTAMP:20260422T014418Z
DTSTART;VALUE=DATE:20240830
DTEND;VALUE=DATE:20240831
SUMMARY:Queenie - Klub Loděnice
DESCRIPTION:
LOCATION:Benátky nad Jizerou
END:VEVENT
END:VCALENDAR