BEGIN:VCALENDAR
VERSION:2.0
CALSCALE:GREGORIAN
PRODID:-//MyApp//Calendar 1.0//EN
BEGIN:VEVENT
METHOD:PUBLISH
UID:42436@regionalniportaly.cz
DTSTAMP:20260421T115326Z
DTSTART;VALUE=DATE:20240518
DTEND;VALUE=DATE:20240519
SUMMARY:90. výročí založení fotbalového klubu SK Skalsko
DESCRIPTION:Charitativní fotbalové utkání SK SKALSKO STARÁ GARDA&nbsp\;vs REAL TOP PRAHA u příležitosti 90. výročí založení fotbalového klubu SK Skalsko.Výtěžek z akce bude věnován na ozdravný tábor pro děti s těžkým diabetem DIÁČEK.Již za pár dní oslaví fotbalový klub SK Skalsko významné výročí! V sobotu 18. května je pro veřejnost připraven bohatý sportovně-kulturní program\, který vyvrcholí ve 14 hodin charitativním utkáním mezi týmy SK SKALSKO STARÁ GARDA vs REAL TOP PRAHA zakončen autogramiádou a ve večerních hodinách taneční zábavou a ohňostrojem...Sportovní program začne v&nbsp\;8:30 mistrovským zápasem mladých fotbalistů kategorie U15. V&nbsp\;10:30 začíná druhé mistrovské utkání dorostu kategorie U19 oba naše týmy se utkají s&nbsp\;týmy z&nbsp\;klubu TJF Čechie Čejetice.Charitativní utkáníNejvětším sportovním tahákem je charitativní zápas mezi starou gardou SK Skalsko a týmem známých osobností REAL TOP PRAHA. Výtěžek z akce bude věnován na ozdravný tábor pro děti s těžkým diabetem DIÁČEK. Po utkání se diváci mohou těšit na autogramiádu aktérů zápasu.Program dne:8:30 mistrovský zápas U1510:30 mistrovský zápas U1914:00 charitativní utkání16:00 autogramiáda hvězd Realu Top Praha18:00 venkovní taneční zábava| diskotéka22:00 velký ohňostroj&nbsp\;Herní zóna pro dětiPro děti bude v areálu připraveno vyžití v podobě skákacích hradů\, skluzavek\, nebo atrakci RODEO BÝK.Večerní taneční zábavaCelodenní program uzavře venkovní taneční zábava\, která v areálu odstartuje v 18 hodin. K tanci a poslechu bude hrát DJ JanekBohatý výběr občerstveníPostaráno bude také o chuťové buňky návštěvníků oslav. K dispozici bude občerstvení v restauraci Na hřišti. Chybět ovšem nebudou ani stánky s&nbsp\;grilovaným masem\, budou klobásy z&nbsp\;udírny a speciální grilované kotlety...
LOCATION:Skalsko
END:VEVENT
END:VCALENDAR