BEGIN:VCALENDAR
VERSION:2.0
CALSCALE:GREGORIAN
PRODID:-//MyApp//Calendar 1.0//EN
BEGIN:VEVENT
METHOD:PUBLISH
UID:42989@regionalniportaly.cz
DTSTAMP:20260421T223735Z
DTSTART;VALUE=DATE:20240824
DTEND;VALUE=DATE:20240825
SUMMARY:8. Country Kaninafest 2024
DESCRIPTION:Country a Bluegrass festival každoročně pořádaný na podporu Domova seniorů ve Mšeně.
LOCATION:Kanina
END:VEVENT
END:VCALENDAR