BEGIN:VCALENDAR
VERSION:2.0
CALSCALE:GREGORIAN
PRODID:-//MyApp//Calendar 1.0//EN
BEGIN:VEVENT
METHOD:PUBLISH
UID:42992@regionalniportaly.cz
DTSTAMP:20260421T132219Z
DTSTART;VALUE=DATE:20240615
DTEND;VALUE=DATE:20240616
SUMMARY:Bio Bezdíkov - Princezna na hrášku
DESCRIPTION:Osmou sezónu letního kina zahájíme zbrusu novou adaptací klasické pohádky Hanse Christiana Andersena • vezměte rodinu a přijďte se podívat na premiérovou pohádku\, která se nátáčela i na Škvoreckém zámku a ve které jméno Škvořec&nbsp\; zazní během promítání mnohokrát •&nbsp\; ČR • 2024 • 80 minut-------------Letní kino je součástí&nbsp\;Škvoreckého kulturního léta&nbsp\;• promítáme pod širým nebem i za deště • najdete nás v parku na Masarykově náměstí ve Škvorci •&nbsp\;občerstvení zajištěno již před představením&nbsp\;• na místě promítání nejsou lavičky\, a proto si kromě dobré nálady s sebou přineste&nbsp\;vlastní karimatky\, deky\, sedátka nebo lehátka&nbsp\;Vstupenky zakoupíte na místě (platba možná i bezkontaktně platební kartou) nebo online zde&nbsp\;• využijte možnosti nákupu vstupenky předem\, vyhnete se frontě před vstupem • přijďte s dostatečným předstihem
LOCATION:Škvorec
END:VEVENT
END:VCALENDAR