BEGIN:VCALENDAR
VERSION:2.0
CALSCALE:GREGORIAN
PRODID:-//MyApp//Calendar 1.0//EN
BEGIN:VEVENT
METHOD:PUBLISH
UID:42993@regionalniportaly.cz
DTSTAMP:20260421T152308Z
DTSTART;VALUE=DATE:20240712
DTEND;VALUE=DATE:20240713
SUMMARY:Bio Bezdíkov - Přišla v noci
DESCRIPTION:Když si pár třicátníků pustí přes práh matku jednoho z nich\, netuší\, že se jejich poklidný život změní v chaotické trosky • Mají matky a tchýně vždycky pravdu? • film Tomáše Pavlíčka a Jana Vejnara na tenké hraně černého humoru rozvíjí situaci\, kterou v různých obměnách zažil každý z nás • Český lev za nejlepší režii a nejlepší herečku v hlavní roli&nbsp\; • ČR • 2023 • 85 minut • nevhodný mládeži do 12 let-------------Letní kino je součástí&nbsp\;Škvoreckého kulturního léta&nbsp\;• promítáme pod širým nebem i za deště • najdete nás v parku na Masarykově náměstí ve Škvorci •&nbsp\;občerstvení zajištěno již před představením&nbsp\;• na místě promítání nejsou lavičky\, a proto si kromě dobré nálady s sebou přineste&nbsp\;vlastní karimatky\, deky\, sedátka nebo lehátka&nbsp\;Vstupenky zakoupíte na místě (platba možná i bezkontaktně platební kartou) nebo online zde&nbsp\;• využijte možnosti nákupu vstupenky předem\, vyhnete se frontě před vstupem • přijďte s dostatečným předstihem
LOCATION:Škvorec
END:VEVENT
END:VCALENDAR