BEGIN:VCALENDAR
VERSION:2.0
CALSCALE:GREGORIAN
PRODID:-//MyApp//Calendar 1.0//EN
BEGIN:VEVENT
METHOD:PUBLISH
UID:42995@regionalniportaly.cz
DTSTAMP:20260421T152129Z
DTSTART;VALUE=DATE:20240613
DTEND;VALUE=DATE:20240614
SUMMARY:Lissa Classica | Andrea Kalivodová | Moje Carmen
DESCRIPTION:Hvězda české operní scény neexceluje jen ve světě opery\, ale je stále častěji vyhledávanou interpretkou písňových recitálů. Spolu s kytaristou a hudebním skladatelem Lukášem Sommerem vloni v Berlíně debutovala s novým písňovým programem\, který sklidil bouřlivé ovace\, a je tedy nejvyšší čas uvést jej i na domácí scéně. Dvořákovy Biblické písně\, árie Carmen\, lidové písně Manuella de Fally a mnoho dalších klenotů hudby rozezní kostel sv. Bartoloměje v nedalekých Kostomlatech nad Labem\, kde má festival v letošní sezóně premiéru.\n \nAndrea Kalivodová - mezzosopránLukáš Sommer - kytara\n \nProgram: G. Bizet\, M. de Falla\, A. Dvořák\, I. Albéniz\, G. F. Händel
LOCATION:Kostomlaty nad Labem
END:VEVENT
END:VCALENDAR