BEGIN:VCALENDAR
VERSION:2.0
CALSCALE:GREGORIAN
PRODID:-//MyApp//Calendar 1.0//EN
BEGIN:VEVENT
METHOD:PUBLISH
UID:42996@regionalniportaly.cz
DTSTAMP:20260421T152152Z
DTSTART;VALUE=DATE:20240616
DTEND;VALUE=DATE:20240617
SUMMARY:Lissa Classica | Tomáš Sýkora + 3 Jazz v zámecké zahradě
DESCRIPTION:Strhující fúze klasického jazzu a elektronické hudby v podání dalšího skvělého hudebníka z Lysé nad Labem. Tomáš Sýkora nedávno zaujal českou hudební scénu autorským projektem se Symfonickým orchestrem Českého rozhlasu. Čím dál více ale ve světě jazzu rezonuje jeho novátorský projekt Tomáš Sýkora + 3. Jazz v originálním hávu prohnaný svěží elektronikou má daleko k tradičnímu zvuku vinylové desky. Přijďte se rozloučit se čtvrtým ročníkem festivalu Lissa Classica do zámecké zahrady hudbou\, kterou nelze poslouchat vsedě.
LOCATION:Lysá nad Labem
END:VEVENT
END:VCALENDAR