BEGIN:VCALENDAR
VERSION:2.0
CALSCALE:GREGORIAN
PRODID:-//MyApp//Calendar 1.0//EN
BEGIN:VEVENT
METHOD:PUBLISH
UID:43029@regionalniportaly.cz
DTSTAMP:20260421T152321Z
DTSTART;VALUE=DATE:20240726
DTEND;VALUE=DATE:20240727
SUMMARY:Bio Bezdíkov - Prázdniny s broučkem
DESCRIPTION:Kdo by někdy nechtěl vyrazit na rodinnou dovolenou do Chorvatska krásným červeným karavanem po dědovi? •&nbsp\; i když je Jadran doslova na dosah\, cesta se může pořádně protáhnout • letní komedie Jiřího Matouška s Bárou Polákovou v hlavní roli •&nbsp\; ČR • 2024 • 87 minut • mládeži přístupný-------------Letní kino je součástí&nbsp\;Škvoreckého kulturního léta&nbsp\;• promítáme pod širým nebem i za deště • najdete nás v parku na Masarykově náměstí ve Škvorci •&nbsp\;občerstvení zajištěno již před představením&nbsp\;• na místě promítání nejsou lavičky\, a proto si kromě dobré nálady s sebou přineste&nbsp\;vlastní karimatky\, deky\, sedátka nebo lehátka&nbsp\;Vstupenky zakoupíte na místě (platba možná i bezkontaktně platební kartou) nebo online zde&nbsp\;• využijte možnosti nákupu vstupenky předem\, vyhnete se frontě před vstupem • přijďte s dostatečným předstihem
LOCATION:Škvorec
END:VEVENT
END:VCALENDAR