BEGIN:VCALENDAR
VERSION:2.0
CALSCALE:GREGORIAN
PRODID:-//MyApp//Calendar 1.0//EN
BEGIN:VEVENT
METHOD:PUBLISH
UID:43030@regionalniportaly.cz
DTSTAMP:20260421T152413Z
DTSTART;VALUE=DATE:20240809
DTEND;VALUE=DATE:20240810
SUMMARY:Bio Bezdíkov - Sladký život
DESCRIPTION:Mistr světa v hokeji\, který miluje krásné ženy a rychlá auta\, musí projít nečekanou životní zkouškou\, aby nezklamal své nové přátele a rodinu\, o jejíž existenci neměl tušení • Vladimír Polívka v nové komedii od tvůrců filmu Ženy v běhu • ČR • 2024 • 102 minut • mládeži přístupný-------------Letní kino je součástí&nbsp\;Škvoreckého kulturního léta&nbsp\;• promítáme pod širým nebem i za deště • najdete nás v parku na Masarykově náměstí ve Škvorci •&nbsp\;občerstvení zajištěno již před představením&nbsp\;• na místě promítání nejsou lavičky\, a proto si kromě dobré nálady s sebou přineste&nbsp\;vlastní karimatky\, deky\, sedátka nebo lehátka&nbsp\;Vstupenky zakoupíte na místě (platba možná i bezkontaktně platební kartou) nebo online zde&nbsp\;• využijte možnosti nákupu vstupenky předem\, vyhnete se frontě před vstupem • přijďte s dostatečným předstihem
LOCATION:Škvorec
END:VEVENT
END:VCALENDAR