BEGIN:VCALENDAR
VERSION:2.0
CALSCALE:GREGORIAN
PRODID:-//MyApp//Calendar 1.0//EN
BEGIN:VEVENT
METHOD:PUBLISH
UID:43031@regionalniportaly.cz
DTSTAMP:20260421T222059Z
DTSTART;VALUE=DATE:20240824
DTEND;VALUE=DATE:20240825
SUMMARY:Bio Bezdíkov - Aristokratka ve varu
DESCRIPTION:Pokračování úspěšné komedie Jiřího Vejdělka nabízí další porci bláznivých situací a gagů\, při nichž je hlasitý smích zaručen • ČR • 2024 • 99 minut • mládeži přístupný-------------Letní kino je součástí&nbsp\;Škvoreckého kulturního léta&nbsp\;• promítáme pod širým nebem i za deště • najdete nás v parku na Masarykově náměstí ve Škvorci •&nbsp\;občerstvení zajištěno již před představením&nbsp\;• na místě promítání nejsou lavičky\, a proto si kromě dobré nálady s sebou přineste&nbsp\;vlastní karimatky\, deky\, sedátka nebo lehátka&nbsp\;Vstupenky zakoupíte na místě (platba možná i bezkontaktně platební kartou) nebo online zde&nbsp\;• využijte možnosti nákupu vstupenky předem\, vyhnete se frontě před vstupem • přijďte s dostatečným předstihem
LOCATION:Škvorec
END:VEVENT
END:VCALENDAR