BEGIN:VCALENDAR
VERSION:2.0
CALSCALE:GREGORIAN
PRODID:-//MyApp//Calendar 1.0//EN
BEGIN:VEVENT
METHOD:PUBLISH
UID:43032@regionalniportaly.cz
DTSTAMP:20260421T203428Z
DTSTART;VALUE=DATE:20240831
DTEND;VALUE=DATE:20240901
SUMMARY:Bio Bezdíkov - Luca
DESCRIPTION:Prázdniny zakončíme skvělým animovaným filmem o dospívajícím chlapci\, který zažívá nezapomenutelné letní prázdniny plné zmrzliny\, těstovin a vyjížděk na mopedu • prosluněná dobrodružství prožívá se svým novým kamarádem\, avšak jejich veselí ohrožuje přísně střežené tajemství • USA • 2021 • 95 minut-------------Letní kino je součástí&nbsp\;Škvoreckého kulturního léta&nbsp\;• promítáme pod širým nebem i za deště • najdete nás v parku na Masarykově náměstí ve Škvorci •&nbsp\;občerstvení zajištěno již před představením&nbsp\;• na místě promítání nejsou lavičky\, a proto si kromě dobré nálady s sebou přineste&nbsp\;vlastní karimatky\, deky\, sedátka nebo lehátka&nbsp\;Vstupenky zakoupíte na místě (platba možná i bezkontaktně platební kartou) nebo online zde&nbsp\;• využijte možnosti nákupu vstupenky předem\, vyhnete se frontě před vstupem • přijďte s dostatečným předstihem
LOCATION:Škvorec
END:VEVENT
END:VCALENDAR