BEGIN:VCALENDAR
VERSION:2.0
CALSCALE:GREGORIAN
PRODID:-//MyApp//Calendar 1.0//EN
BEGIN:VEVENT
METHOD:PUBLISH
UID:43148@regionalniportaly.cz
DTSTAMP:20260421T132104Z
DTSTART;VALUE=DATE:20240623
DTEND;VALUE=DATE:20240624
SUMMARY:Dětská diskotéka s maskoty
DESCRIPTION:Oslavte konec školního roku na diskotéce s králíčkem Bingem\, Pokémonem Pikachu\, a princeznou Elsou! Na programu je diskotéka s oblíbenými hity\, tanec a focení s našimi maskoty\, malování na obličej\, občerstvení a oblíbené aktivity! \n\n\nSoučástí programu bude také talentová show - Pikachu hledá talent!!! Těšíme se na všechny děti\, které nám budou chtít předvést svůj talent. Disciplína je zcela dobrovolná - zpěv\, tanec\, recitace\, hra na hudební nástroj\, pantomima\, ukázka bojového sportu\,......\n\n\nPravidla účasti v soutěži: soutěžit může jednotlivec\, dvojice nebo skupina max 6 dětí. Soutěžní vystoupení musí mít max. 2 minuty. Soutěžit se bude ve dvou kategoriích "školkáčci" a "školáci". V případě zájmu o účast je nutná registrace předem - na mail info@detskymaskot.cz nám zašlete: jméno uchazeče/uchazečů\, věk\, kategorii\, disciplínu\, jméno a tel. kontakt na rodiče a pokud chcete\, tak také hudební doprovod. Následně Vám registraci potvrdíme. Kapacita soutěžních míst je omezená\, tedy s registrací neváhejte! \n\n\nAkce se bude konat za jakéhokoli počasí\, v případě deště budeme ve vnitřních prostorech loděnice! Areál otevřen od 14:30 do 18:00 hodin. Hlavní program bude probíhat v čase 15:00 až 17:00 hodin. \n\n\nVstupné je jednotné pro děti od 1 roku (včetně) i dospělé osoby. Děti do 12 měsíců mají vstup zdarma. Cena vstupenek v předprodeji na smsticket.cz 169\,-Kč\, na místě 199\,-Kč.
LOCATION:Čelákovice
END:VEVENT
END:VCALENDAR