BEGIN:VCALENDAR
VERSION:2.0
CALSCALE:GREGORIAN
PRODID:-//MyApp//Calendar 1.0//EN
BEGIN:VEVENT
METHOD:PUBLISH
UID:43604@regionalniportaly.cz
DTSTAMP:20260423T112814Z
DTSTART;VALUE=DATE:20241021
DTEND;VALUE=DATE:20241022
SUMMARY:QUEEN - SYMPHONIC TRIBUTE SHOW
DESCRIPTION:Vstupte do světa legendy s největšími hity Queen a symfonickým orchestrem!&nbsp\;&nbsp\;Ladislav Korbel\, finalista "The Voice CZ" a jeden z nejžádanějších českých zpěváků v oblasti (nejen) muzikálové\, se postará o nezapomenutelnou interpretaci Freddieho. Za ním budou stát muzikanti z Queen tribute kapely Queenmania a přes 30 symfoniků z "Prague Festival Symphony" pod vedením věhlasného dirigenta Petra Chromčáka\, který má za sebou desítky angažmá po celé Evropě.&nbsp\;Nechte se unést na vlně nezapomenutelného zážitku\, který vás zavede do éry možná největší rockové kapely všech dob – Queen!Přijďte a staňte se součástí této jedinečné události\, která vás ponoří do světa ikonických hitů oslavujících nezaměnitelný hlas Freddie Mercuryho a jedinečný zvukový projev Queen. Připravte se na největší hity jako "Bohemian Rhapsody"\, "We Will Rock You"\, "Somebody to Love" a mnoho dalších\, které se staly proslulými po celém světě.Živý symfonický orchestr vytvoří velkolepý hudební doprovod a umocní emoce\, které Queen zanechali v srdcích fanoušků po celém světě.&nbsp\;Vstupenky jsou nyní k dispozici\, takže si můžete zajistit své místo na tomto nezapomenutelném koncertním zážitku.
LOCATION:Čelákovice
END:VEVENT
END:VCALENDAR