BEGIN:VCALENDAR
VERSION:2.0
CALSCALE:GREGORIAN
PRODID:-//MyApp//Calendar 1.0//EN
BEGIN:VEVENT
METHOD:PUBLISH
UID:43629@regionalniportaly.cz
DTSTAMP:20260421T132115Z
DTSTART;VALUE=DATE:20240626
DTEND;VALUE=DATE:20240627
SUMMARY:ŠANSONÁRIUM MILONĚ ČEPELKY II
DESCRIPTION:Po roce se do Škvorce vrací básník\, tvůrce haiku\, prozaik\, textař\, herec\,zpěvák\, scenárista\, moderátor\, cimrmanolog a nositel státníhovyznamenání Za zásluhy\, báječný člověk Miloň Čepelka. Tentokrát spolus autorem hudby Patrikem Ulrichem představí další zhudebněné básněv přednesu šansoniérky Elišky Lüftner. Nebude chybět ani autorskéčtení vtipných veršů haiku.Počet míst je omezen\, proto si prosíme včas zakupte vstupenky on-linenebo přímo na úřadě městysu Škvorec.Vstup na zámek je od 18:00 hodin\, na místě je k dispozici drobnéobčerstvení.
LOCATION:Škvorec
END:VEVENT
END:VCALENDAR