BEGIN:VCALENDAR
VERSION:2.0
CALSCALE:GREGORIAN
PRODID:-//MyApp//Calendar 1.0//EN
BEGIN:VEVENT
METHOD:PUBLISH
UID:43737@regionalniportaly.cz
DTSTAMP:20260421T170535Z
DTSTART;VALUE=DATE:20240816
DTEND;VALUE=DATE:20240817
SUMMARY:Umění vraždy
DESCRIPTION:Jack a Annie Brooksovi jsou malíři a manželé. Když pozvou svého agenta Vinceta na večeři do vily uprostřed lesů\, začíná večer\, na který nikdo z&nbsp\;nich jen tak nezapomene. A jakou roli v&nbsp\;tom všem má na první pohled zdrženlivá služebná Kate? Komediální thriller úspěšného amerického autora vám neustálými překvapivými zvraty vyrazí dech. Chytře vystavěný text přináší čtyři skvělé herecké příležitosti a poodhaluje vzrušující svět umělců a jejich&nbsp\;tvorby. Čím vším je ovlivněn úspěch? Jak se vyrovnat s&nbsp\;odmítnutím? A co jsme ochotni obětovat pro vlastní slávu?&nbsp\;
LOCATION:Kostelec nad Černými Lesy
END:VEVENT
END:VCALENDAR