BEGIN:VCALENDAR
VERSION:2.0
CALSCALE:GREGORIAN
PRODID:-//MyApp//Calendar 1.0//EN
BEGIN:VEVENT
METHOD:PUBLISH
UID:43870@regionalniportaly.cz
DTSTAMP:20260423T112936Z
DTSTART;VALUE=DATE:20240929
DTEND;VALUE=DATE:20240930
SUMMARY:Zlatovláska
DESCRIPTION:Divadlo Natalie Venturové uvádí muzikálovou pohádku Zlatovláska\, která pobaví děti i dospělé.Jednou přinesla kořenářka starému králi vzácného hada. „Kdo ho sní\, porozumí řeči zvířat\,“ řekla. Kousek hada i přes přísný zákaz snědl mladý králův sloužící Jiřík. Král ho za to potrestal a poslal ho do světa\, aby mu přivedl nevěstu\, krásnou Zlatovlásku.&nbsp\;
LOCATION:Čelákovice
END:VEVENT
END:VCALENDAR