BEGIN:VCALENDAR
VERSION:2.0
CALSCALE:GREGORIAN
PRODID:-//MyApp//Calendar 1.0//EN
BEGIN:VEVENT
METHOD:PUBLISH
UID:43890@regionalniportaly.cz
DTSTAMP:20260421T152112Z
DTSTART;VALUE=DATE:20240727
DTEND;VALUE=DATE:20240728
SUMMARY:Historickým vlakem do pivovaru Clock v Potštejně
DESCRIPTION:Historický rychlík na vlečku pivovaru Clock v Potštejně\, kde se konají oslavy 10. výročí pivovaru s bohatým programem a prohlídkami.\nNástupní místa: Benešov u Prahy\, Říčany\, Praha\, Čelákovice\, Lysá nad Labem.\n \nNávrh jízdního řádu:\nBenešov u Prahy 7:30 – Říčany 7:55 – Praha hl.n. 8:15/8:30 – Praha-Rajská Zahrada 8:40 – Čelákovice 9:00 – Lysá nad Labem 9:10 – Potštejn 11:15\nPotštejn 16:50 – Lysá nad Labem 18:50 – Čelákovice 19:00 – Praha-Rajská Zahrada 19:20 – Praha hl.n. 19:30/19:40 – Říčany 20:00 – Benešov u Prahy 20:30
LOCATION:Lysá nad Labem
END:VEVENT
END:VCALENDAR