BEGIN:VCALENDAR
VERSION:2.0
CALSCALE:GREGORIAN
PRODID:-//MyApp//Calendar 1.0//EN
BEGIN:VEVENT
METHOD:PUBLISH
UID:43963@regionalniportaly.cz
DTSTAMP:20260421T132018Z
DTSTART;VALUE=DATE:20240713
DTEND;VALUE=DATE:20240714
SUMMARY:Vosekfest 2
DESCRIPTION:Doražte si užít trochu toho Zakázanýho ovoce:)druhý ročník festivalu Vosekfest bude tentokrát na sokolské zahradě\, můžete se těšit na solidní nálož kapel\, posezení na zahradě bude připravené a Pivka&amp\;Limči bude taky dost. Můžete se těšit i na skvělé drinky a něco k zakousnutí\, až Vás přepadne žravá.Brány zahrady se otevřou už po 13:00 - výhoda lístku v předprodeji:+levnější cena+rychlost odbavení\, díky smsticketu a naší skvělé vstupařce ani nemrknete a už budete stát před stage s pivem v ruce:)+ budete mít jistotu\, že se na fest dostanete ( na sokolskou zahradu se nás milion bohužel nevejde)děcka budou platit až od 12ti let - to neznamená\, že za mladší a starší nejste zodpovědní -&nbsp\; Každopádně nebojte\, že neeliminujeme malé lemtáky.Hned u vstupu\, dostanou barevnou pásku\, na kterou jim na baru nalejou limonádu a dají do ní maximálně led:)&nbsp\;první kapela začíná už ve 14:00 tak neváhejte dorazit.ZahrajíZakázaný ovoceSiluetyLucy-K\, Sabina Uxová\, Check mate! Prasákův Gauč\, los utřinos\, digestoř&nbsp\;Děkujeme sponzorům: Obec Velký Osek\, Rampušák
LOCATION:Velký Osek
END:VEVENT
END:VCALENDAR