BEGIN:VCALENDAR
VERSION:2.0
CALSCALE:GREGORIAN
PRODID:-//MyApp//Calendar 1.0//EN
BEGIN:VEVENT
METHOD:PUBLISH
UID:44141@regionalniportaly.cz
DTSTAMP:20260421T132027Z
DTSTART;VALUE=DATE:20240705
DTEND;VALUE=DATE:20240706
SUMMARY:Noc filmových a muzikálových melodií
DESCRIPTION:
LOCATION:Kunice
END:VEVENT
END:VCALENDAR