BEGIN:VCALENDAR
VERSION:2.0
CALSCALE:GREGORIAN
PRODID:-//MyApp//Calendar 1.0//EN
BEGIN:VEVENT
METHOD:PUBLISH
UID:44142@regionalniportaly.cz
DTSTAMP:20260421T131700Z
DTSTART;VALUE=DATE:20240706
DTEND;VALUE=DATE:20240707
SUMMARY:Štefan Margita
DESCRIPTION:
LOCATION:Kunice
END:VEVENT
END:VCALENDAR