BEGIN:VCALENDAR
VERSION:2.0
CALSCALE:GREGORIAN
PRODID:-//MyApp//Calendar 1.0//EN
BEGIN:VEVENT
METHOD:PUBLISH
UID:44143@regionalniportaly.cz
DTSTAMP:20260421T150833Z
DTSTART;VALUE=DATE:20240707
DTEND;VALUE=DATE:20240708
SUMMARY:Helena Vondráčková
DESCRIPTION:
LOCATION:Kunice
END:VEVENT
END:VCALENDAR