BEGIN:VCALENDAR
VERSION:2.0
CALSCALE:GREGORIAN
PRODID:-//MyApp//Calendar 1.0//EN
BEGIN:VEVENT
METHOD:PUBLISH
UID:44185@regionalniportaly.cz
DTSTAMP:20260421T221948Z
DTSTART;VALUE=DATE:20240917
DTEND;VALUE=DATE:20240918
SUMMARY:Koncert Vojty Nedvěda a kapely Tie Break
DESCRIPTION:Dobrovická muzea v rámci podzimního programu nabízejí jedinečnou možnost slyšet krásné písničky v podání Vojty Neděda a kapely Tie Break.&nbsp\;
LOCATION:Dobrovice
END:VEVENT
END:VCALENDAR