BEGIN:VCALENDAR
VERSION:2.0
CALSCALE:GREGORIAN
PRODID:-//MyApp//Calendar 1.0//EN
BEGIN:VEVENT
METHOD:PUBLISH
UID:44416@regionalniportaly.cz
DTSTAMP:20260421T152520Z
DTSTART;VALUE=DATE:20240726
DTEND;VALUE=DATE:20240728
SUMMARY:The MILL 2024 – Electronic music festival
DESCRIPTION:S radostí oznamujeme konání prvního ročníku hudebního festivalu The MILL\, na kterém se snoubí historie a příroda s tím nejsoučasnějším zvukem house a techna. Od 26. do 28. července Vás zveme na dvě noci plné hudby a nezapomenutelných zážitků v kouzelném prostředí historického mlýna. Těšit se můžete na exkluzivní a intimní atmosféru (kapacita akce je striktně limitována na 400 osob)\, kemping na louce u jezera\, autentické gastro z lokálních zdrojů a fantastický zvuk Funktion One soundsystemu.\n \nStojíme u zrodu budoucí tradice a Vy u toho můžete být s námi!\n \n26.–28. července 2024\nBučický mlýn (Podolí 18\, Rožďalovice\, ČR)\n \nHEADLINERS\n \nCaleesi and Sarah Kreis (Kater Blau\, Circles &amp\; Stones)\n \nIkony berlínského underground techna. Původem z Německa a doma ve známém berlínském klubu Katerblau\, proslulém svou bohémskou atmosférou\, maratónskými večírky a vizuálem s kočkou  (www.katerblau.de). Pravidelně vystupují na festivalech jako Burning Man\, Fusion\, Garbicz apod. V roce 2019 založily label "Circles &amp\; Stones" a společně vytvořily jedinečný zvuk\, který je melancholický\, taneční\, podmanivý a naladěný na tom nejlepším bpm.\n \nSet time: sobota 00:00\n Skatebard (Digitalo Enterprises\, Sex Tags Mania\, Bordello a Parigi)\n \nPůvodně heavy metalový bubeník Bård Aasen Lødemel\, alias Skatebård\, připlouvá na The Mill fest představit svůj originální mix emocionálního techna\, neo-italo disca\, alternative future electra a Scando-cosmic reinterpretace čistého detroitského housu. Tento nekonvenční umělec je dnes uznávaným a osobitým djem a producentem. Vydává na labelech jako Balsa Wood\, Digitalo Enterprises\, Radius Records\, Supersoul Recordings\, Tellè Records\, Keys of Life Finland\, Luna Flicks\, Totally a Sex Tags Mania.\nJe zakladatelem nahrávací společnosti Digitalo Enterprises.\n \nSet time: pátek 00:00\n \nCZ LINEUP\n \nChicco (Buddha Bar)\nCubik\, Da Moon\, Diome (Vivacity) Ian Rokka\, Ian Kubrick\, Trtlsqd (Apollo Music) Liquid A (Hoffmanuv Domestic) Mirus (Výroba Eurforie)\nOrbith (Dense Audio)\nVilem (Lollypop)
LOCATION:Rožďalovice
END:VEVENT
END:VCALENDAR