BEGIN:VCALENDAR
VERSION:2.0
CALSCALE:GREGORIAN
PRODID:-//MyApp//Calendar 1.0//EN
BEGIN:VEVENT
METHOD:PUBLISH
UID:44713@regionalniportaly.cz
DTSTAMP:20260421T203400Z
DTSTART;VALUE=DATE:20240825
DTEND;VALUE=DATE:20240826
SUMMARY:Celý den s Antonínem Baudyšem
DESCRIPTION:Centrum NOVÝ SVĚT v Přistoupimivás zve na akci&nbsp\;v romantické barokní usedlosti v Přistoupimi 1 u Českého Brodu:&nbsp\;CD s BytostíanebCelý Den s ANTONÍNEM BAUDYŠEM25.8.&nbsp\; &nbsp\; &nbsp\; &nbsp\; &nbsp\;11.00 - 19.00 a následně setkání u táborákucena je včetně oběda zdarma&nbsp\;možnost dalšího občerstvenípříjezd cca 35 min z Prahy autem i vlakem&nbsp\;Program:- 3 celky přednášek s besedou s Antonínem BaudyšemTémata:Proměna lidstva\, Genius českého živlu\, Zrcadlo vztahů&nbsp\;- 1 přednáška Dominiky Shiry&nbsp\;- O skoku za mysl a Mandalovém tarotu&nbsp\;Motto:Jedinečná Bytost Antonín Baudyš + čas celého dne + magické místo = synergie\, která Vás přivede do hlubokého prožitku a pochopení...&nbsp\;Bonusy ke vstupence:1. 50 % sleva na Herohero Antonína Baudyše2. sleva 500\,- Kč na sezení a výklad karet u Dominiky Shira&nbsp\;&nbsp\;
LOCATION:Přistoupim
END:VEVENT
END:VCALENDAR