BEGIN:VCALENDAR
VERSION:2.0
CALSCALE:GREGORIAN
PRODID:-//MyApp//Calendar 1.0//EN
BEGIN:VEVENT
METHOD:PUBLISH
UID:44817@regionalniportaly.cz
DTSTAMP:20260421T222129Z
DTSTART;VALUE=DATE:20240831
DTEND;VALUE=DATE:20240901
SUMMARY:Tatecká fošna 2024
DESCRIPTION:10.&nbsp\;a také poslední ročník zábavného dne pro celou rodinu. Odpoledne probíhají soutěže pro děti a dospělé na vodě\, jako je plavba v neckách\, přejezd dřevěné lávky (Fošny) na kole a na trakaři nebo soutěž týmů. Hlavní ceny jsou soudek piva\, celá kýta na gril a další překvapení. Je to crazy akce\, která je zakončená hudebním večerem\, letos s kapelami 21 hodin\, Telegraf\, AC/CZ a Maniac.&nbsp\;Doprovodný program: skákací hrad Rybička Nemo\, surf trenažér\, dětský kolotoč\, malování na obličej\, projížďka na koni\, parkour show Improve Yourself\, výstava fotek ze všech předchozích ročníků
LOCATION:Tatce
END:VEVENT
END:VCALENDAR