BEGIN:VCALENDAR
VERSION:2.0
CALSCALE:GREGORIAN
PRODID:-//MyApp//Calendar 1.0//EN
BEGIN:VEVENT
METHOD:PUBLISH
UID:44973@regionalniportaly.cz
DTSTAMP:20260421T201628Z
DTSTART;VALUE=DATE:20250506
DTEND;VALUE=DATE:20250507
SUMMARY:Caveman
DESCRIPTION:Autor: Rob BeckerMáte chuť se rozesmát až k slzám? Přijďte se podívat na slavnou one man show o tom\, co dělá muže mužem a ženu ženou\, o rozdílech mezi námi\, o lásce\, partnerství a vtipně utajených kvalitách obou pohlaví.Režie: Patrik HartlHraje: Jan Holík/Jakub SlachDélka představení: cca 90 minut bez přestávkyVstupné: 450 Kč.Pořadatel:&nbsp\;POINT\, s.r.o.
LOCATION:Čelákovice
END:VEVENT
END:VCALENDAR