BEGIN:VCALENDAR
VERSION:2.0
CALSCALE:GREGORIAN
PRODID:-//MyApp//Calendar 1.0//EN
BEGIN:VEVENT
METHOD:PUBLISH
UID:45207@regionalniportaly.cz
DTSTAMP:20260423T112840Z
DTSTART;VALUE=DATE:20240928
DTEND;VALUE=DATE:20240929
SUMMARY:Křivoklátským rychlíkem na Křivoklání
DESCRIPTION:Navštivte královský hrad Křivoklát u příležitosti rytířských slavností Křivoklání. Celý program bude doslova nabitý atmosférou středověku a chrabrých rytířů. Ke Křivoklání neodmyslitelně patří také dobový jarmark. \nNejvětší hradní akce roku s 30 letou tradicí. Strhující podívaná na vystoupení profesionální šermířské skupiny Merlet. \n \nHistorický motorový vlak s lokomotivou Bardotka.\n \nJízdní řád vlaku R 91040:Kolín 7:26 – Poděbrady 7:41 – Nymburk hl.n. 7:53 – Lysá nad Labem 8:07 – Čelákovice 8:16 – Praha-Rajská zahrada 8:32 – Praha hl.n. 8:53 – Praha-Smíchov 9:02 – Praha-Radotín 09:12 – Černošice 09:18 – Křivoklát 10:36\nJízdní řád vlaku R 91043:Křivoklát 15:30 – Černošice 16:51 – Praha-Radotín 16:57 – Praha-Smíchov 17:07 – Praha hl.n. 17:18 – Praha-Rajská zahrada 17:44 – Čelákovice 18:02 – Lysá nad Labem 18:12 – Nymburk hl.n. 18:29 – Poděbrady 18:39 – Kolín 18:55
LOCATION:Lysá nad Labem
END:VEVENT
END:VCALENDAR