BEGIN:VCALENDAR
VERSION:2.0
CALSCALE:GREGORIAN
PRODID:-//MyApp//Calendar 1.0//EN
BEGIN:VEVENT
METHOD:PUBLISH
UID:45354@regionalniportaly.cz
DTSTAMP:20260423T113222Z
DTSTART;VALUE=DATE:20241028
DTEND;VALUE=DATE:20241029
SUMMARY:Výroční cena města Čelákovic
DESCRIPTION:Výroční cena města 2024Slavnostní večer s koncertem Ondřeje G. Brzobohatého – piano\, zpěv a Matouše Kobylky – saxofon\, moderuje Daniela G. Brzobohatá.
LOCATION:Čelákovice
END:VEVENT
END:VCALENDAR