BEGIN:VCALENDAR
VERSION:2.0
CALSCALE:GREGORIAN
PRODID:-//MyApp//Calendar 1.0//EN
BEGIN:VEVENT
METHOD:PUBLISH
UID:45549@regionalniportaly.cz
DTSTAMP:20260422T074515Z
DTSTART;VALUE=DATE:20241031
DTEND;VALUE=DATE:20241101
SUMMARY:Sandra Pogodová - Úhel pohledu
DESCRIPTION:Úhel pohledu - nečekejte historky z natáčení. Toto bude jiný level. Sandra Vás s&nbsp\;velkou laskavostí a lidskostí bude inspirovat jak žít&nbsp\;v lehkosti\, lásce a jednoduchosti.I v této rovině nachází vtip a nadhled. Nudit se určitě nebudete.&nbsp\; &nbsp\; &nbsp\; &nbsp\; &nbsp\; &nbsp\; &nbsp\; &nbsp\; &nbsp\; Zapomínáme pracovat a zamýšlet se nad sebou samými...nebojte\, Sandra&nbsp\;Vám to připomene s osobitostí sobě vlastní.&nbsp\;
LOCATION:Dolní Stakory
END:VEVENT
END:VCALENDAR