BEGIN:VCALENDAR
VERSION:2.0
CALSCALE:GREGORIAN
PRODID:-//MyApp//Calendar 1.0//EN
BEGIN:VEVENT
METHOD:PUBLISH
UID:45664@regionalniportaly.cz
DTSTAMP:20260422T055410Z
DTSTART;VALUE=DATE:20250204
DTEND;VALUE=DATE:20250205
SUMMARY:Muzikály naruby
DESCRIPTION:MUZIKÁLY NARUBY -&nbsp\;to je nejpopulárnější koncertní muzikálová show v České republice. Muzikály Naruby do posledního místa vyprodaly velký sál pražské Lucerny\, či arénu O2 Universum.Trio předních zpěváků\, muzikálových a seriálových herců -&nbsp\;Josef Vágner\, Petr Ryšavý\, Jan Kopečný&nbsp\;- za doprovodu živé kapely hrají ty největší muzikálové hity ve velmi energickém\, poutavém a zábavném pojetí. Můžete se těšit na písně z muzikálů Kleopatra\, Bídnící\, Dracula\, Tři Mušketýři\, ale také na&nbsp\;největší české hity&nbsp\;K. Gotta\, H. Zagorové\, M. Davida\,&nbsp\;V. Neckáře\, W. Matušky\, H. Vondráčkové\, L. Bílé\, J. Ledeckého\, či kapely&nbsp\;Lucie.
LOCATION:Čelákovice
END:VEVENT
END:VCALENDAR