BEGIN:VCALENDAR
VERSION:2.0
CALSCALE:GREGORIAN
PRODID:-//MyApp//Calendar 1.0//EN
BEGIN:VEVENT
METHOD:PUBLISH
UID:45754@regionalniportaly.cz
DTSTAMP:20260421T203418Z
DTSTART;VALUE=DATE:20240913
DTEND;VALUE=DATE:20240914
SUMMARY:BforB Academy Networking
DESCRIPTION:Zveme vás na business snídani podnikatelského klubu&nbsp\;BforB&nbsp\;Academy\, jedinečné platformy&nbsp\; propojující networking se vzděláváním a osobním rozvojem podnikatelů\, na tématické setkání "Jak se vyhnout rizikům švarcsystému".&nbsp\;Kdy: pátek 13.září od 8:00 do 11:00 hod.Kde: v&nbsp\;krásném prostředí zámku Berchtold\, Hlavní 6\, Kunice\, Praha-východ.&nbsp\;Přijďte na naši business snídani a získejte cenné informace od zkušeného advokáta&nbsp\;JUDr. Pavla Zusky.&nbsp\;&nbsp\;V tématické přednášce se zaměříme zejména na: podstatu švarcsystému a jeho znaky\, důsledky švarcsystému pro zaměstnavatele a zaměstnance\, minimalizaci podezření ze švarcsystému.&nbsp\;&nbsp\;popovídáme si o tom\,&nbsp\; jaký má na znaky švarcsystému vliv novela zákona o zaměstnanosti účinná od 1.1.2024.Počet míst je omezen\, proto neváhejte a své místo si rezervujte co nejdříve!&nbsp\;Kromě přednášky se můžete také těšit na:&nbsp\;Efektivní&nbsp\;čas mezi podnikateliRozšíříte si znalosti: získáte ucelený přehled o právních aspektech švarcsystému i o tom\, jak se vyhnout rizikům s&nbsp\;ním spojenýmNavážete nové kontakty: potkáte se s&nbsp\;dalšími podnikateli a navážete cenné obchodní vztahyProstor pro Vás: dostanete prostor osobně představit Vaši firmu a podnikáníSdílení a inspirace: budete mít příležitost pohovořit si o podnikání\, vyměnit zkušenosti\, nechat se inspirovat zkušenostmi ostatníchModerovaný networking a výborné občerstvení&nbsp\;Vstupné:1.250 Kč včetně DPH&nbsp\;Těšíme se na setkání s vámi!
LOCATION:Kunice
END:VEVENT
END:VCALENDAR