BEGIN:VCALENDAR
VERSION:2.0
CALSCALE:GREGORIAN
PRODID:-//MyApp//Calendar 1.0//EN
BEGIN:VEVENT
METHOD:PUBLISH
UID:46375@regionalniportaly.cz
DTSTAMP:20260422T053222Z
DTSTART;VALUE=DATE:20250304
DTEND;VALUE=DATE:20250305
SUMMARY:Luboš Pospíšil & 5P "75"
DESCRIPTION:LUBOŠ POSPÍŠIL "75"Matador české hudební scény s&nbsp\;hlasem\, který si nespletete prožívá jedno z&nbsp\;nejšťastnějších období své více než padesátileté kariéry\, kterou akcentuje sólová deska Poesis Beat (2021)\, nedávné čtyřicáté výročí vydání kultovního debutu Tenhle vítr jsem měl rád a nastávající 75. narozeniny Luboše Pospíšila.Po turné k&nbsp\;zásadnímu albu Soukromá elegie (získalo zlatou desku!) a po retrospektivní šňůře Route 66 k&nbsp\;supraphonskému 13CD kompletu vstoupil Luboš do Beatové síně slávy… a teď sklízí všechny ty plody a ocenění v&nbsp\;sálech od Šumavy po Ostravu\, stále častěji vyprodaných.&amp\;quot\;V předvečer&amp\;quot\; sedmdesátin si v říjnu 2019 nadělil své první živé album s názvem Ostrava !!!Live. V jeho duchu a hlavně v duchu kulatin se nesly pocovidové koncerty včetně dvouvyprodaných pražských Lucerna Music Barů a brněnského Semilassa.Aktuální šňůra nabízí průřez celou protagonistovou kariérou - publikum se dočkáosvědčených songů ze&nbsp\;zlaté éry (Jekyll a Hyde\, Soukromá cesta do nikam...)\, ale inovodobých hitů (Vznikla zem\, Tak navštiv bar...) a tří písniček z novinky Poesis Beat.Pospíšilův tenor za bicími jistí bubeník Jakub Nývlt (též Sto zvířat\, Oskar Petr...)\, elektrickou kytaru krotí Mirek Linhart (YoYo Band)\, klávesy kapelníka Ondřeje Fencla (Schodiště\, V.Merta\, Marsyas…) tmelí spodek\, rytmiku dotváří baskytarista Jakub Červinka (Etc\, Sto zvířat\, Jan Burian...)\, na perkuse dobarvuje a zpívá Michal Hnátek (Divadlo Elf\, Jan Hrubý a trio...) Unikátem na scéně jsou sehrané pětihlasy jako další poznávací znamení současných 5P\, semknutých kolem Pospíšila. Generační bariéry rozmetává síla kolektivu\, kapela hraje s&nbsp\;radostí\, byť některé písně jsou starší než někteří účinkující. A možná právě proto. Alba aktuálních 5P ověnčují pozitivní novinářské ohlasy\, ale i na svou dobu slušné prodeje\, v&nbsp\;souvislosti se Soukromou elegií recenzenti psali o „nejlepším albu od dob A nestřílejte namilence. Turné střídá turné\, ročně odehraje L.P. kolem osmdesáti koncertů. Jako by těch křížků nebylo 74\, ale dvakrát méně.2x45 min.
LOCATION:Čelákovice
END:VEVENT
END:VCALENDAR