BEGIN:VCALENDAR
VERSION:2.0
CALSCALE:GREGORIAN
PRODID:-//MyApp//Calendar 1.0//EN
BEGIN:VEVENT
METHOD:PUBLISH
UID:46509@regionalniportaly.cz
DTSTAMP:20260422T053953Z
DTSTART;VALUE=DATE:20241210
DTEND;VALUE=DATE:20241211
SUMMARY:Vánoční koncert města Čelákovic
DESCRIPTION:Účinkuje Orchestr Bohumíra Hanžlíka.Vstupné 350 Kč.
LOCATION:Čelákovice
END:VEVENT
END:VCALENDAR