BEGIN:VCALENDAR
VERSION:2.0
CALSCALE:GREGORIAN
PRODID:-//MyApp//Calendar 1.0//EN
BEGIN:VEVENT
METHOD:PUBLISH
UID:46749@regionalniportaly.cz
DTSTAMP:20260422T055440Z
DTSTART;VALUE=DATE:20250209
DTEND;VALUE=DATE:20250210
SUMMARY:S čerty nejsou žádné žerty
DESCRIPTION:Metropolitní divadlo Praha uvádí dětský muzikál na motivy slavné pohádkyS čerty nejsou žádné žerty.Čertovská pohádka vypráví o mladém mlynáři Petrovi\, kterého zlá chamtivá macecha Dorota připraví o mlýn a všechen majetek po mamince a tatínkovi.Petr se proto vydává hledat své štěstí do světa. Cestou narazí v lese na dcery knížete\; protivnou a sobeckou Angelinu a hodnou a skromnou Adélku.Mezitím se Petrova macecha spikne s místním vychytralým správcem\, který se stará jen o to\, jak naplnit vlastní měšec na úkor knížecí pokladny. Společně proti Petrovi kují pikle. Podaří se jim ho dostat do vězení a poté i na vojnu.Petrovi se však povede utéct\, a když už neví\, kudy kam\, nabídne mu svoji pomoc samotné Peklo. To pečlivě sleduje špatné skutky\, protože nikdy nedělá dobře\, když si někdo může myslet\, že zlo zůstane nepotrestáno...
LOCATION:Čelákovice
END:VEVENT
END:VCALENDAR