BEGIN:VCALENDAR
VERSION:2.0
CALSCALE:GREGORIAN
PRODID:-//MyApp//Calendar 1.0//EN
BEGIN:VEVENT
METHOD:PUBLISH
UID:46759@regionalniportaly.cz
DTSTAMP:20260422T035132Z
DTSTART;VALUE=DATE:20250218
DTEND;VALUE=DATE:20250219
SUMMARY:Až naprší a uschne
DESCRIPTION:Divadelní spolek HátaCowardova hořká komedie z&nbsp\;roku 1925 se odehrává během jednoho červnového víkendu v&nbsp\;letním domě manželů Blissových.Judith Blissová\, bývalá herečka a&nbsp\;její manžel\, spisovatel David\, tu tráví léto se svými dvěma dospívajícími dětmi.Nezávisle na sobě si každý z&nbsp\;nich pozve na víkend hosta\, na kterého se až dětinsky těší\, bohužel jen do chvíle\, než zjistí\, že jejich host nebude v&nbsp\;domě tím jediným. Od toho okamžiku hádky mezi sebestřednými členy rodiny převáží nad pohostinností a&nbsp\;obyčejnou slušností. Život rodiny Blissových je takové malé peklíčko. Všichni se chovají nevyzrále a&nbsp\;nedospěle. Hosté jsou zmatení a&nbsp\;podléhají nástrahám milostných hrátek ...Hrají:Judith BlissováOlga&nbsp\;"Háta"&nbsp\;Želenská&nbsp\;/&nbsp\;Ivana&nbsp\;AndrlováDavid BlissLukáš&nbsp\;Vaculík&nbsp\;/&nbsp\;Pavel&nbsp\;NečasSorel BlissováHana&nbsp\;Kusnjerová&nbsp\;/&nbsp\;Betka&nbsp\;StankováSimon BlissPetr&nbsp\;Buchta&nbsp\;/&nbsp\;Václav&nbsp\;JiráčekMyra ArundelováAdéla&nbsp\;Gondíková&nbsp\;/&nbsp\;Regina&nbsp\;ŘandováRichard GreathamRoman&nbsp\;Štolpa&nbsp\;/&nbsp\;Viktor&nbsp\;LimrJackie CorytonováKristýna&nbsp\;Kociánová&nbsp\;/&nbsp\;Vítězslava&nbsp\;KarolováSandy TyrellJuraj&nbsp\;Bernáth&nbsp\;/&nbsp\;Filip&nbsp\;Tomsa&nbsp\;/&nbsp\;Jaroslav&nbsp\;SlánskýClaraPavla&nbsp\;Vojáčková&nbsp\;/&nbsp\;Lucie&nbsp\;Svobodová&nbsp\;Délka představení:&nbsp\;110&nbsp\;min. + přestávka (20&nbsp\;min.)&nbsp\;Autor:&nbsp\;Noël CowardPřeklad:&nbsp\;Pavel DominikRežie:&nbsp\;Jaroslav Slánský&nbsp\;
LOCATION:Čelákovice
END:VEVENT
END:VCALENDAR