BEGIN:VCALENDAR
VERSION:2.0
CALSCALE:GREGORIAN
PRODID:-//MyApp//Calendar 1.0//EN
BEGIN:VEVENT
METHOD:PUBLISH
UID:47174@regionalniportaly.cz
DTSTAMP:20260422T054818Z
DTSTART;VALUE=DATE:20250108
DTEND;VALUE=DATE:20250109
SUMMARY:Novoroční koncert města Čelákovic
DESCRIPTION:SYMFONICKÝ ORCHESTR DALIBORA HAVLÍČKAOd klasiky k&nbsp\;populární a filmové hudbě&nbsp\;&nbsp\;&nbsp\;Program:&nbsp\;Antonín Dvořák: Largo z&nbsp\;2. věty 9. symfonie „Z&nbsp\;Nového světa“&nbsp\;Petr Iljič Čajkovskij: Pochod ze suity baletu Louskáček&nbsp\;Petr Iljič Čajkovskij: Téma z&nbsp\;baletu Labutí jezero&nbsp\;Giacommo Puccini: árie Nesun dorma z&nbsp\;opery Turandot (Jakub Turek – tenor)&nbsp\;GeorgesBizet: Předehra z&nbsp\;opery Carmen&nbsp\;&nbsp\;&nbsp\; &nbsp\; &nbsp\; &nbsp\; &nbsp\; &nbsp\; &nbsp\; &nbsp\; &nbsp\; &nbsp\; &nbsp\; &nbsp\; &nbsp\; Habanera z&nbsp\;opery Carmen&nbsp\;&nbsp\;&nbsp\;&nbsp\;&nbsp\;&nbsp\;&nbsp\;&nbsp\;&nbsp\;&nbsp\;&nbsp\;&nbsp\;&nbsp\;&nbsp\;&nbsp\;&nbsp\;&nbsp\;&nbsp\;&nbsp\;&nbsp\;&nbsp\;&nbsp\;&nbsp\;&nbsp\;&nbsp\;&nbsp\;&nbsp\;&nbsp\;Toreador z&nbsp\;opery Carmen&nbsp\; Andrew Lloyd Weber: Memory z&nbsp\;muzikálu Cats (Eliška Milotová – soprán)&nbsp\; Francesco Satori: Con te partiró (tenor Jakub Turek)&nbsp\;Ennio Morricone: Tenkrát na západě (Eliška Milotová – soprán)&nbsp\; John Williams: Téma z&nbsp\;filmu Schindlerův seznam (sólo housle)&nbsp\; Andrew Lloyd Weber: Předehra a Labyrinth Underground z&nbsp\;muzikálu The Phantom Of The Opera (duet)PŘESTÁVKA&nbsp\;Bill Conti: Gonna Fly Now z&nbsp\;filmu Rocky&nbsp\;Ramin Djawadi: úvodní soundtrack seriálu Hra o trůny&nbsp\;Klaus Badelt: Soundtrack z&nbsp\;filmové série Piráti z&nbsp\;Karibiku&nbsp\;Martin Bötcher: Vinnetou a poklad na Stříbrném jezeře (3:30)Jiří Bažant\, Vlastimil Hála: Milenci v&nbsp\;texaskách z&nbsp\;muzikálu Starci na chmeluElmer Bernstein: úvodní skladba westernu Sedm statečnýchHans Zimmer: Tennesee z&nbsp\;filmu Pearl HarborLalo Schifrin: soundtrack ze seriálu Mission ImpossibleMonty Norman: téma z&nbsp\;filmu James BondJohn Williams: soundtrack ze série Star Wars&nbsp\;sólisté:Jakub TurekStudoval zpěv nejprve soukromě u&nbsp\;Nadi Šormové\, dále pak do&nbsp\;roku 2015 na&nbsp\;Pražské konzervatoři. Dlouhodobě spolupracuje s&nbsp\;plzeňským Divadlem J. K. Tyla\, pravidelně hostuje v&nbsp\;libereckém Divadle F. X. Šaldy v&nbsp\;Severočeském divadle v&nbsp\;Ústí nad&nbsp\;Labem i&nbsp\;v Národním divadle v&nbsp\;Praze. Jako sólista opakovaně spolupracuje také s&nbsp\;Pražským smíšeným sborem.Eliška MilotováStudovala zpěv na Pražské konzervatoři a následně na Hudební akademii múzických umění v&nbsp\;Praze. V&nbsp\;letech 2005-2006 spolupracovala s&nbsp\;Národním divadlem v Praze\, v&nbsp\;současnosti spolupracuje s&nbsp\;divadlem Minaret a sólově vystupuje na koncertech operní a písňové tvorby. Současně se věnuje také pedagogické činnosti.&nbsp\; Antonín Dvořák: Largo z&nbsp\;2. věty 9. symfonie „Z&nbsp\;Nového světa“2x&nbsp\;45 minut s přestávkouVstupné 390 Kč.
LOCATION:Čelákovice
END:VEVENT
END:VCALENDAR