BEGIN:VCALENDAR
VERSION:2.0
CALSCALE:GREGORIAN
PRODID:-//MyApp//Calendar 1.0//EN
BEGIN:VEVENT
METHOD:PUBLISH
UID:47180@regionalniportaly.cz
DTSTAMP:20260422T074533Z
DTSTART;VALUE=DATE:20241124
DTEND;VALUE=DATE:20241125
SUMMARY:Společenstvo vlastníků
DESCRIPTION:Divadelní soubor&nbsp\;Bezdíkov uvádí lehce šílenou schůzi lehce šílených vlastníků bytových jednotek.&nbsp\;
LOCATION:Babice
END:VEVENT
END:VCALENDAR