BEGIN:VCALENDAR
VERSION:2.0
CALSCALE:GREGORIAN
PRODID:-//MyApp//Calendar 1.0//EN
BEGIN:VEVENT
METHOD:PUBLISH
UID:48261@regionalniportaly.cz
DTSTAMP:20260422T074342Z
DTSTART;VALUE=DATE:20250408
DTEND;VALUE=DATE:20250409
SUMMARY:Úča musí pryč
DESCRIPTION:Divadlo VerzeEmoce vřou\, v prvním pololetí se známky dětí rapidně zhoršily\, atmosféra ve třídě je špatná\, navíc čekají děti po pololetí přestupové zkoušky na osmiletá gymnázia. Kdo za známky nese zodpovědnost? Samozřejmě učitelka! A proto je nutné ji ihned odvolat. Pět rodičů je pět rozdílných charakterů - zatrpklý nezaměstnaný\, který je neustále za zadkem své dceři\, ambiciózní ranařka\, nerozhodná intelektuálka a manželský pár v krizi\, navíc vykořeněný přestěhováním do místa školy kvůli práci.Učitelka však nedává svoji kůži zadarmo - nastaví rodičům zrcadlo a ukazuje se\, že jejich děti jsou různým způsobem problémové a zdrojem nepokojů ve třídě.&nbsp\;Délka představení 1:30 hodPředstavení je bez&nbsp\;přestávkyVěkové doporučení 12+&nbsp\;OBSAZENÍPavel Ježek &nbsp\;&nbsp\; &nbsp\; &nbsp\; -&nbsp\;David Prachař​Markéta Ježková -&nbsp\;Jana Janěková ml.​Kateřina Zimová &nbsp\;-&nbsp\;Kristýna Frejová​Monika Dvorská &nbsp\; -&nbsp\;Linda Rybová&nbsp\;Bořivoj Drobil &nbsp\; &nbsp\; &nbsp\;-&nbsp\;Igor Chmela&nbsp\;Marie Novotná &nbsp\; &nbsp\; -&nbsp\;Petra Špalková​AUTOR :&nbsp\; Lutz Hübner​REŽIE:&nbsp\; &nbsp\; &nbsp\;Thomas Zielinski&nbsp\; &nbsp\;&nbsp\; &nbsp\; &nbsp\; &nbsp\; &nbsp\; &nbsp\; &nbsp\; &nbsp\; &nbsp\; &nbsp\; &nbsp\; &nbsp\; &nbsp\; &nbsp\; &nbsp\; &nbsp\; &nbsp\;&nbsp\;​Vstupné: 480/420 Kč
LOCATION:Čelákovice
END:VEVENT
END:VCALENDAR