BEGIN:VCALENDAR
VERSION:2.0
CALSCALE:GREGORIAN
PRODID:-//MyApp//Calendar 1.0//EN
BEGIN:VEVENT
METHOD:PUBLISH
UID:48308@regionalniportaly.cz
DTSTAMP:20260422T055529Z
DTSTART;VALUE=DATE:20250315
DTEND;VALUE=DATE:20250316
SUMMARY:IX. Reprezentační ples města Čelákovic
DESCRIPTION:IX. Reprezentační ples města Čelákovic ve stylu glamourMOONDANCE ORCHESTRA MARTINA KUMŽÁKA se sólisty Dashou\, Naďou Wepperovou\, Dušanem Kollárem a Michalem Cermanempřekvapení večera vystoupení tanečníků StarDance aneb když hvězdy tančí Jan Onder a Dana Batulkovávečerem provede Leona Gyöngyösioriginální kreslené karikaturywelcome drink\, půlnoční překvapení\, afterparty
LOCATION:Čelákovice
END:VEVENT
END:VCALENDAR