BEGIN:VCALENDAR
VERSION:2.0
CALSCALE:GREGORIAN
PRODID:-//MyApp//Calendar 1.0//EN
BEGIN:VEVENT
METHOD:PUBLISH
UID:48368@regionalniportaly.cz
DTSTAMP:20260422T054118Z
DTSTART;VALUE=DATE:20241219
DTEND;VALUE=DATE:20241220
SUMMARY:Vánoční Bakaláři
DESCRIPTION:Divadelni predstaveni divadelniho spolku OUDIV&nbsp\;Pozvánka na nezapomenutelný večer plný smíchu a vánoční atmosféry!&nbsp\;Přijďte si užít představení&nbsp\;"Vánoční Bakaláři"\, které vás zahřeje u srdce i pobaví k slzám!&nbsp\;&nbsp\;Tři originální vánoční příběhy plné humoru\, překvapení a nezapomenutelných postav vás vtáhnou do světa\, kde se zdánlivě obyčejné situace mění v nečekaná dobrodružství.Rezervujte si svá místa včas\, ať vám neunikne představení\, o kterém se bude mluvit ještě na Štědrý den!Režie: Jana Trávníčková&nbsp\;Scénář: Bára Veselá&nbsp\;
LOCATION:Doubek
END:VEVENT
END:VCALENDAR