BEGIN:VCALENDAR
VERSION:2.0
CALSCALE:GREGORIAN
PRODID:-//MyApp//Calendar 1.0//EN
BEGIN:VEVENT
METHOD:PUBLISH
UID:48432@regionalniportaly.cz
DTSTAMP:20260422T074307Z
DTSTART;VALUE=DATE:20241213
DTEND;VALUE=DATE:20241214
SUMMARY:Vánoční Bakaláři - divadelní představení
DESCRIPTION:Divadelní představení divadelního spolku OUDIV.Vánoční Bakaláři jsou vtipné vánoční příběhy.Scénáře se ujala Bára Veselá.&nbsp\;OUDIV srdečně děkuje Květinové&nbsp\;galerii Gabriela Úvaly.
LOCATION:Úvaly
END:VEVENT
END:VCALENDAR