BEGIN:VCALENDAR
VERSION:2.0
CALSCALE:GREGORIAN
PRODID:-//MyApp//Calendar 1.0//EN
BEGIN:VEVENT
METHOD:PUBLISH
UID:48448@regionalniportaly.cz
DTSTAMP:20260422T074418Z
DTSTART;VALUE=DATE:20250309
DTEND;VALUE=DATE:20250310
SUMMARY:Zpíváme a tančíme s Míšou
DESCRIPTION:Ahoj kamarádi\,&nbsp\;zveme vás na novou písničkovou show&nbsp\;Míši Růžičkové&nbsp\;s&nbsp\;oblíbenými zvířátky a postavičkami z&nbsp\;jejich písniček.Znáte&nbsp\;Sloníka&nbsp\;Toníka\,&nbsp\;který se bojí myší a jeho statečné zvířecí kamarády?Naučný interaktivní pořad plný veselých písniček a povídání o důležitých tématech\, jako je třeba&nbsp\;Semafor\,&nbsp\;Auta&nbsp\;a přechod pro chodce\, je tady pro všechny děti a rodiče.Děti si krásně protáhnou tělíčka v průběhu celého pořadu\, mohou si ale také přijít zatancovat s Míšou na pódium\, být na chvíli hvězdou celé show a užít si zblízka pohádkovou krajinu.A víte jak se setkal&nbsp\;Sloník&nbsp\;Toník\,&nbsp\;Jednorožec&nbsp\;a&nbsp\;Dino&nbsp\;Pepíno?&nbsp\;Jednoho krásného dne\, jako je ten dnešní\, se u zelené tůně… A&nbsp\;jak to bylo dál se dozvíte na mém písničkovém představení.Zazpíváme si i úplně nové písničky o&nbsp\;Dinovi&nbsp\;Pepínovi&nbsp\;a&nbsp\;Jednorožci\, budeme čarovat se&nbsp\;Strašidly&nbsp\;a také malovat kouzelnými stužkami&nbsp\;Sluníčko.&nbsp\;Zazní vaši oblíbení&nbsp\;Hasiči\, Sanitka nebo Policejní&nbsp\;a&nbsp\;Popeláři&nbsp\;nám pomohou roztřídit všechny odpadky.Přijďte si zazpívat a zatančit a vidět se naživo\, užít si společné chvíle.Během vystoupení jsou děti&nbsp\;zapojovány do písniček&nbsp\;a mohou si&nbsp\;zatančit před pódiem\, na svém místě nebo s Míšou na pódiu.&nbsp\;Délka představení je 50 – 60 minut\, poté mají děti možnost se s Míšou setkat na&nbsp\;autogramiádě\, vyfotit se&nbsp\;a nechat si podepsat plakát\, CD nebo třeba tričko.
LOCATION:Čelákovice
END:VEVENT
END:VCALENDAR