BEGIN:VCALENDAR
VERSION:2.0
CALSCALE:GREGORIAN
PRODID:-//MyApp//Calendar 1.0//EN
BEGIN:VEVENT
METHOD:PUBLISH
UID:48449@regionalniportaly.cz
DTSTAMP:20260422T055330Z
DTSTART;VALUE=DATE:20241215
DTEND;VALUE=DATE:20241216
SUMMARY:Vánoční Bakaláři - divadelní představení
DESCRIPTION:2. Divadelní představení divadelního spolku OUVID.Scénář: Bára Veselá&nbsp\;Oudiv srdečně děkuje Květinové galerii Gabriela Úvaly.&nbsp\;
LOCATION:Úvaly
END:VEVENT
END:VCALENDAR